BEGIN:VCALENDAR
VERSION:2.0
PRODID:-//EMMA USA - ECPv6.15.20//NONSGML v1.0//EN
CALSCALE:GREGORIAN
METHOD:PUBLISH
X-ORIGINAL-URL:https://emmausa.org
X-WR-CALDESC:Events for EMMA USA
REFRESH-INTERVAL;VALUE=DURATION:PT1H
X-Robots-Tag:noindex
X-PUBLISHED-TTL:PT1H
BEGIN:VTIMEZONE
TZID:America/Chicago
BEGIN:DAYLIGHT
TZOFFSETFROM:-0600
TZOFFSETTO:-0500
TZNAME:CDT
DTSTART:20250309T080000
END:DAYLIGHT
BEGIN:STANDARD
TZOFFSETFROM:-0500
TZOFFSETTO:-0600
TZNAME:CST
DTSTART:20251102T070000
END:STANDARD
BEGIN:DAYLIGHT
TZOFFSETFROM:-0600
TZOFFSETTO:-0500
TZNAME:CDT
DTSTART:20260308T080000
END:DAYLIGHT
BEGIN:STANDARD
TZOFFSETFROM:-0500
TZOFFSETTO:-0600
TZNAME:CST
DTSTART:20261101T070000
END:STANDARD
BEGIN:DAYLIGHT
TZOFFSETFROM:-0600
TZOFFSETTO:-0500
TZNAME:CDT
DTSTART:20270314T080000
END:DAYLIGHT
BEGIN:STANDARD
TZOFFSETFROM:-0500
TZOFFSETTO:-0600
TZNAME:CST
DTSTART:20271107T070000
END:STANDARD
END:VTIMEZONE
BEGIN:VEVENT
DTSTART;VALUE=DATE:20260426
DTEND;VALUE=DATE:20260427
DTSTAMP:20260423T065956
CREATED:20260309T225237Z
LAST-MODIFIED:20260309T225237Z
UID:1357-1777161600-1777247999@emmausa.org
SUMMARY:Audio Systems 4th Annual Spring SQ Show - 1x
DESCRIPTION:EMMA USA 1X\, IASCA 1X and WCA 1X$40 first class\, $30 each additional\, $90 if you do all 3SQ Judges:EMMA USA – Richard Papasin
URL:https://emmausa.org/?tribe_events=audio-systems-4th-annual-spring-sq-show-1x
LOCATION:Audio Systems\, 5132 Holt Blvd.\, Montclair\, California\, 91763
ATTACH;FMTTYPE=image/jpeg:https://emmausa.org/wp-content/uploads/2026/03/619492591_860987516760772_1014773167638406258_n.jpg
ORGANIZER;CN="Papasin Sound":MAILTO:papasinsound@gmail.com
END:VEVENT
BEGIN:VEVENT
DTSTART;TZID=America/Chicago:20260502T080000
DTEND;TZID=America/Chicago:20260503T170000
DTSTAMP:20260423T065956
CREATED:20260105T211859Z
LAST-MODIFIED:20260216T212705Z
UID:1325-1777708800-1777827600@emmausa.org
SUMMARY:Battle of the Smokies - 2x
DESCRIPTION:EMMA judging is on Saturday and the Money Round will be held on Sunday. \nPlease contact Mike Myers for registration and info.
URL:https://emmausa.org/?tribe_events=battle-of-the-smokies-2x
LOCATION:303 Henderson Chapel Road\, 303 Henderson Chapel Road\, Pigeon Forge\, TN\, 37863
ATTACH;FMTTYPE=image/jpeg:https://emmausa.org/wp-content/uploads/2026/01/635452982_122260525466187308_1928251261119885843_n.jpg
ORGANIZER;CN="Mike Myers":MAILTO:soundfactoryknox@outlook.com
END:VEVENT
BEGIN:VEVENT
DTSTART;VALUE=DATE:20260503
DTEND;VALUE=DATE:20260504
DTSTAMP:20260423T065956
CREATED:20260407T205539Z
LAST-MODIFIED:20260407T205539Z
UID:1365-1777766400-1777852799@emmausa.org
SUMMARY:Lube-N-Ades and SQ - 1x
DESCRIPTION:ECA 2X and EMMA 1X offered by @ohartinsound on National Lemonade Day\nECA 2 judges (Cassie Hall and Scott Welch)\, awards sponsored by Barron Sound$60 for ECA 2 1-seat scoresheets\nEMMA 1X judge is Tim Goudy$40 entry fee\n$15 for buffet at QSL\n$100 all in bundle for 3 1-seat scoresheets with buffet included
URL:https://emmausa.org/?tribe_events=lube-n-ades-and-sq-1x
LOCATION:Quaker Steak & Lube\, 6033 Dressler Rd. NW\, North Canton\, Ohio\, 44720
ATTACH;FMTTYPE=image/jpeg:https://emmausa.org/wp-content/uploads/2026/04/629347377_927889186848319_286112495122099769_n.jpg
END:VEVENT
BEGIN:VEVENT
DTSTART;VALUE=DATE:20260614
DTEND;VALUE=DATE:20260615
DTSTAMP:20260423T065956
CREATED:20260407T205853Z
LAST-MODIFIED:20260407T205853Z
UID:1368-1781395200-1781481599@emmausa.org
SUMMARY:Backyard BBQ & SQ 3 - 1x
DESCRIPTION:Year 3! We will have ECA 3X along with an EMMA 1X.\n$75 for 3 judges for ECA$40 for EMMA$100 for ECA/EMMA Bundle (4 scoresheets)\nGood time with BBQ in the backyard for 3rd year in a row!
URL:https://emmausa.org/?tribe_events=backyard-bbq-sq-3-1x
LOCATION:843 S. Canal St.\, 843 S. Canal St.\, Canal Fulton\, OH\, 44614
ATTACH;FMTTYPE=image/jpeg:https://emmausa.org/wp-content/uploads/2026/04/512338931_740068715630368_4371310863817839045_n.jpg
END:VEVENT
BEGIN:VEVENT
DTSTART;TZID=America/Chicago:20260717T080000
DTEND;TZID=America/Chicago:20260719T170000
DTSTAMP:20260423T065956
CREATED:20260407T210125Z
LAST-MODIFIED:20260407T210125Z
UID:1372-1784275200-1784480400@emmausa.org
SUMMARY:Steel Valley Regional XV - 3x
DESCRIPTION:Steel Valley Regional XV will be held July 17\,18\,19 2026 returning to the Wesbanco Arena. Save the date!!\nAs before\, this show will feature the Top 48 SQ Showdown along with Iasca 3X\, Emma 3X\, MASQ 3X and MECA 4X.\nPreregistration will open in January 2026\, same time as the past year. Before registration we will announce all the Judges \, Music and Format so there are no surprises.\nMore information to follow in the next few weeks.
URL:https://emmausa.org/?tribe_events=steel-valley-regional-xv-3x
LOCATION:WesBanco Arena\, 2 14th Street\, Wheeling\, WV\, 26003
ATTACH;FMTTYPE=image/jpeg:https://emmausa.org/wp-content/uploads/2026/04/566382767_10236926591921343_7607799487389237295_n.jpg
ORGANIZER;CN="Papasin Sound":MAILTO:papasinsound@gmail.com
END:VEVENT
END:VCALENDAR